BEGIN:VCALENDAR
VERSION:2.0
PRODID:-//schrit_tmacher - just dance! - ECPv6.15.15//NONSGML v1.0//EN
CALSCALE:GREGORIAN
METHOD:PUBLISH
X-ORIGINAL-URL:https://schrittmacherfestival.de
X-WR-CALDESC:Veranstaltungen für schrit_tmacher - just dance!
REFRESH-INTERVAL;VALUE=DURATION:PT1H
X-Robots-Tag:noindex
X-PUBLISHED-TTL:PT1H
BEGIN:VTIMEZONE
TZID:Europe/Berlin
BEGIN:DAYLIGHT
TZOFFSETFROM:+0100
TZOFFSETTO:+0200
TZNAME:CEST
DTSTART:20220327T010000
END:DAYLIGHT
BEGIN:STANDARD
TZOFFSETFROM:+0200
TZOFFSETTO:+0100
TZNAME:CET
DTSTART:20221030T010000
END:STANDARD
BEGIN:DAYLIGHT
TZOFFSETFROM:+0100
TZOFFSETTO:+0200
TZNAME:CEST
DTSTART:20230326T010000
END:DAYLIGHT
BEGIN:STANDARD
TZOFFSETFROM:+0200
TZOFFSETTO:+0100
TZNAME:CET
DTSTART:20231029T010000
END:STANDARD
BEGIN:DAYLIGHT
TZOFFSETFROM:+0100
TZOFFSETTO:+0200
TZNAME:CEST
DTSTART:20240331T010000
END:DAYLIGHT
BEGIN:STANDARD
TZOFFSETFROM:+0200
TZOFFSETTO:+0100
TZNAME:CET
DTSTART:20241027T010000
END:STANDARD
END:VTIMEZONE
BEGIN:VEVENT
DTSTART;TZID=Europe/Berlin:20230304T143000
DTEND;TZID=Europe/Berlin:20230304T163000
DTSTAMP:20260423T043653
CREATED:20230131T103636Z
LAST-MODIFIED:20230228T141701Z
UID:9888-1677940200-1677947400@schrittmacherfestival.de
SUMMARY:Körper\, Spuren\, Spüren – in Bewegung orientieren
DESCRIPTION:Sa.\, 04.03.2023 + So.\, 05.03.2023  \njeweils ab 14:30 Uhr\, Bischöfliche Akademie des Bistums Aachen \nDer Körper hat ein eigenes Wissen. „Wie kommen wir mit diesem Wissen in Kontakt? Wie finden wir heraus\, wie wir uns bewegen und was uns bewegt?“ Begleitend zum schrit_tmacher Festival thematisiert die Tagung die Themen Tanz und Bewegung. \nIn jeden menschlichen Körper schreiben sich die Bewegungs- und Denkmuster der jeweiligen Person ein: Bedürfnisse\, Erinnerungen\, Vorstellungen\, Haltungen. Die eigenen Bewegungen prägen den Menschen im Verhältnis zu sich selbst und in den Beziehungen zu anderen. \nIn den getakteten Zeiten des Alltags bewegt sich der Körper funktional und arbeitet nach Schemata und Zeitvorgaben. Was geschieht\, wenn man den eigenen Körper bewusst aus der gewohnten Bewegungsspur bringen lässt und seinen Bewegungsausdruck in aller Vielfalt neu entdeckt? \nDie Tagung begleitet im kulturellen Kontextprogramm das Tanzfestival „schrit_tmacher“\, das in der gesamten Euregio kulturprägende Dynamik entfaltet. \nMareike Buchmann ist freischaffende Tänzerin und Performerin. Mit dem Konzept SYMSOMA verfolgt sie ihre Vision von Bewegungsforschung. Sie lebt in Wiesbaden\, promoviert zum Tagungsthema\, hat Lehraufträge in Ästhetischer Bildung (Goethe Universität Frankfurt) und zur Bewegungsanalyse (Paris Lodron Universität\, Salzburg). \nDie Referentin erläutert den wissenschaftlichen Forschungsstand zum Thema und gibt einzelne Impulse aus dem somatischen und choreografischen Feld\, die in der Praxis durch Bewegung sowie künstlerische\, kreative Ausdrucksmittel wie Schreiben und Zeichnen erforscht und vertieft werden. \n  \nVeranstalter \nBischöfliche Akademie des Bistums Aachen \nLeonhardstraße 18-20 \n52064 Aachen \n  \nLeitung \nDr. Angela Reinders Direktorin BAK \n  \nReferentin:  \nMareike Buchmann\, SYMSOMA – Tanzpraxis\, Bewegungsforschen\, Körperphilosophie\, Wiesbaden \n  \nInformation und Anmeldung \nMarion Bautz \n0241/47996-24 \nmarion.bautz@bistum-aachen.de
URL:https://schrittmacherfestival.de/programm/koerper-spuren-spueren-in-bewegung-orientieren/2023-03-04/
LOCATION:Bischhöfliche Akademie des Bistums Aachen
CATEGORIES:Sonstiges
ATTACH;FMTTYPE=image/jpeg:https://schrittmacherfestival.de/wp-content/uploads/2023/01/Seminar_Koerper-Spuren-Spueren_Mareike-Buchmann_Foto-copyright_De-Da-Production.jpg
END:VEVENT
END:VCALENDAR